BEGIN:VCALENDAR
VERSION:2.0
CALSCALE:GREGORIAN
METHOD:PUBLISH
PRODID://FWEA//185619
BEGIN:VEVENT
DTSTAMP:20260421T234951
VTIMEZONE:America/New_York
DTSTART:20200206T220000Z
DTEND:20200207T000000Z
UID:185619
SUMMARY:Three Oaks WRF Tour and FWEA Social Event
LOCATION:Three Oaks WRF Tour, 18521 Three Oaks Pkwy, Fort Myers, FL 33967 , Fort Myers, FL, 33967
DESCRIPTION:Three Oaks WRF Tour and FWEA Social Event\n\n02/06/20 05:00 PM EST\n - 02/06/20 07:00 PM EST\Description:\nAll colleagues, friends, and professionals are welcome! This event \nis being hosted by the Southwest Chapter of FWEA, but is intended \nfor ALL water and environmental professionals interested in having \na good time and networking with other industry professionals.  \n\n \Details:\nFWEA Social will be held afterwards at 10041 University Plaza Dr #170, Fort Myers, FL 33913 \n\nReservations are not required, please remember that closed-toed shoes and a signed \nwaiver will be required in order to participate.\n\nIf you have any questions or would like to \nconfirm your attendance contact Blake Harvey at harveybe@cdmsmith.com \Location:\nThree Oaks WRF Tour\n18521 Three Oaks Pkwy, Fort Myers, FL 33967 \nFort Myers, FL 33967
X-ALT-DESC;FMTTYPE=text/html:Three Oaks WRF Tour and FWEA Social Event<br /><br />02/06/20 05:00 PM EST - 02/06/20 07:00 PM EST<br />Description:<br />All colleagues, friends, and professionals are welcome! This event&nbsp;<br />
is being hosted by the Southwest Chapter of FWEA, but is intended&nbsp;<br />
for ALL water and environmental professionals interested in having&nbsp;<br />
a good time and networking with other industry professionals. &nbsp;<br />
<br />
&nbsp;<br />Details:<br />FWEA&nbsp;Social will be held afterwards at&nbsp;10041 University Plaza Dr #170, Fort Myers, FL 33913&nbsp;<br />
<br />
Reservations are not required,<span style="color:#FF0000;"> please remember that closed-toed shoes and a signed&nbsp;<br />
waiver will be required in order to participate.</span><br />
<br />
If you have any questions or would like to&nbsp;<br />
confirm your attendance contact Blake Harvey at harveybe@cdmsmith.com&nbsp;<br />Location:<br />Three Oaks WRF Tour<br />18521 Three Oaks Pkwy, Fort Myers, FL 33967 <br />Fort Myers, FL 33967
PRIORITY:3
TRANSP:TRANSPARENT
BEGIN:VALARM
TRIGGER:-PT5M
ACTION:DISPLAY
DESCRIPTION:Reminder
END:VALARM
END:VEVENT
END:VCALENDAR
