BEGIN:VCALENDAR
VERSION:2.0
CALSCALE:GREGORIAN
METHOD:PUBLISH
PRODID://FWEA//213326
BEGIN:VEVENT
DTSTAMP:20260419T141004
VTIMEZONE:America/New_York
DTSTART:20210812T154500Z
DTEND:20210812T170000Z
UID:213326
SUMMARY:Central Florida Chapter 2021-22 Kick off Leadership Meeting
LOCATION:
DESCRIPTION:Central Florida Chapter 2021-22 Kick off Leadership Meeting\n\n08/12/21 11:45 AM EST\n - 08/12/21 01:00 PM EST\Description:\nThis is the 2021-22 CFC annual program kick-off meeting. We’ll take a look ahead at the goals we want to achieve, the value we intend to provide to our community, the events we want to hold, and how we will accomplish these achievements! Attend in person (or virtually as an alternative) and help us to germinate ideas for an outstanding year ahead. To confirm attendance and to receive additional details please contact Megan (Chair) at megan.nelson@ocfl.net.
X-ALT-DESC;FMTTYPE=text/html:Central Florida Chapter 2021-22 Kick off Leadership Meeting<br /><br />08/12/21 11:45 AM EST - 08/12/21 01:00 PM EST<br />Description:<br /><span style="font-family: &quot;Verdana&quot;,&quot;sans-serif&quot;; font-size: 10pt; mso-fareast-font-family: Calibri; mso-fareast-theme-font: minor-latin; mso-bidi-font-family: Calibri; mso-ansi-language: EN-US; mso-fareast-language: EN-US; mso-bidi-language: AR-SA;"><font color="#000000">This is the 2021-22 CFC annual program kick-off meeting. We&rsquo;ll take a look ahead at the goals we want to achieve, the value we intend to provide to our community, the events we want to hold, and how we will accomplish these achievements! Attend in person (or virtually as an alternative) and help us to germinate ideas for an outstanding year ahead. To confirm attendance and to receive additional details please contact Megan (Chair) at </font><a><font color="#000000">megan.nelson@ocfl.net</font></a><font color="#000000">. </font></span>
PRIORITY:3
TRANSP:TRANSPARENT
BEGIN:VALARM
TRIGGER:-PT5M
ACTION:DISPLAY
DESCRIPTION:Reminder
END:VALARM
END:VEVENT
END:VCALENDAR
