BEGIN:VCALENDAR
VERSION:2.0
CALSCALE:GREGORIAN
METHOD:PUBLISH
PRODID://FWEA//515370
BEGIN:VEVENT
DTSTAMP:20260420T042315
VTIMEZONE:America/New_York
DTSTART:20260514T203000Z
DTEND:20260515T003000Z
UID:515370
SUMMARY:FWEA/FSAWWA 17th Annual Don Maurer Classic Putting Tournament
LOCATION:Sawgrass Marriott , 1000 Tournament Players Club Blvd, , Ponte Vedra Beach, Fl, 32082
DESCRIPTION:FWEA/FSAWWA 17th Annual Don Maurer Classic Putting Tournament\n\n05/14/26 04:30 PM EST\n - 05/14/26 08:30 PM EST\Description:\nWe invite you to join us for an evening to benefit the Don Maurer Memorial Scholarship, AWWA, and FWEA charities. Come and enjoy the mini-golf putting course, challenge hole at the Sawgrass Marriott Golf Resort and Spa. Raffle prizes and appetizers will follow the putting tournament.\n\nLOCATION Sawgrass Marriott Mini-Golf Putting Course Challenge-Hole Chipping (Behind Spa Resort Building)\n\nPROCEEDS BENEFIT • FWEA – Donald E. Maurer Memorial Scholarship Fund • University of North Florida and University of Florida Student FWEA Chapters • FSAWWA – Water for People • Likins Scholarship • Norm Casey Scholarship\n\nMeet & Greet/Registration 4:30 - 5:30 pm\nEvent Duration 5:30 - 8:30 pm\n\n \Location:\nSawgrass Marriott \n1000 Tournament Players Club Blvd, \nPonte Vedra Beach, Fl 32082
X-ALT-DESC;FMTTYPE=text/html:FWEA/FSAWWA 17th Annual Don Maurer Classic Putting Tournament<br /><br />05/14/26 04:30 PM EST - 05/14/26 08:30 PM EST<br />Description:<br />We invite you to join us for an evening to benefit the Don Maurer Memorial Scholarship, AWWA, and FWEA charities. Come and enjoy the mini-golf putting course, challenge hole at the Sawgrass Marriott Golf Resort and Spa. Raffle prizes and appetizers will follow the putting tournament.<br />
<br />
LOCATION Sawgrass Marriott Mini-Golf Putting Course Challenge-Hole Chipping (Behind Spa Resort Building)<br />
<br />
PROCEEDS BENEFIT &bull; FWEA &ndash; Donald E. Maurer Memorial Scholarship Fund &bull; University of North Florida and University of Florida Student FWEA Chapters &bull; FSAWWA &ndash; Water for People &bull; Likins Scholarship &bull; Norm Casey Scholarship<br />
<br />
Meet &amp; Greet/Registration 4:30 - 5:30 pm<br />
Event Duration 5:30 - 8:30 pm<br />
<br />
&nbsp;<br />Location:<br />Sawgrass Marriott <br />1000 Tournament Players Club Blvd, <br />Ponte Vedra Beach, Fl 32082
PRIORITY:3
TRANSP:TRANSPARENT
BEGIN:VALARM
TRIGGER:-PT5M
ACTION:DISPLAY
DESCRIPTION:Reminder
END:VALARM
END:VEVENT
END:VCALENDAR
