BEGIN:VCALENDAR
VERSION:2.0
CALSCALE:GREGORIAN
METHOD:PUBLISH
PRODID://FWEA//516293
BEGIN:VEVENT
DTSTAMP:20260419T223817
VTIMEZONE:America/New_York
DTSTART:20260827T130000Z
DTEND:20260827T210000Z
UID:516293
SUMMARY:19thÂ Annual Southwest Florida Water & Wastewater Exposition - Exhibitor Registration
LOCATION:Charlotte Harbor Event and Conference Center, 75 Taylor Street, Punta Gorda, FL, 33950
DESCRIPTION:19thÂ Annual Southwest Florida Water & Wastewater Exposition - Exhibitor Registration\n\n08/27/26 09:00 AM EST\n - 08/27/26 05:00 PM EST\Description:\n19th Annual Southwest Florida Water & Wastewater Exposition - Exhibitor Registration\nWhere: Charlotte Harbor Event and Conference Center \n75 Taylor Street, Punta Gorda, FL 33950 \nWhen: Thursday, 8/27/2026 (Sign-up deadline - July 27th) \n    Setup / Breakdown: 9AM - 11AM / 4PM - 5PM\nCost: $350/Booth Plus Door Prize (includes electric hook-up)\n       $100 Food Sponsorship (Includes Logo Displayed in Food Area)\nBooth includes: 8' X 10' booth / 6' Table / 2 Chairs / Forklift service & Operator available / Electric Hook-up / Trash Bin\Location:\nCharlotte Harbor Event and Conference Center\n75 Taylor Street\nPunta Gorda, FL 33950
X-ALT-DESC;FMTTYPE=text/html:19thÂ Annual Southwest Florida Water & Wastewater Exposition - Exhibitor Registration<br /><br />08/27/26 09:00 AM EST - 08/27/26 05:00 PM EST<br />Description:<br /><strong data-olk-copy-source="MailCompose">19</strong><sup><strong>th</strong></sup><strong>&nbsp;Annual Southwest Florida Water &amp; Wastewater Exposition - Exhibitor Registration</strong><br />
<strong data-olk-copy-source="MailCompose">Where: </strong><strong data-olk-copy-source="MailCompose">Charlotte Harbor Event and Conference Center&nbsp;</strong><br />
75 Taylor Street, Punta Gorda, FL 3395<strong>0&nbsp;</strong><br />
<strong>When: Thursday, 8/27/2026 </strong>(Sign-up deadline - July 27<sup>th</sup>)<strong>&nbsp;</strong><br />
<strong>&ensp;&ensp;&ensp;&ensp;Setup / Breakdown:</strong> 9AM - 11AM / 4PM - 5PM<br />
<strong>Cost: </strong>$350/Booth Plus Door Prize (includes electric hook-up)<br />
&ensp;&ensp;&ensp;&ensp;&nbsp; &nbsp;$100 Food Sponsorship (Includes Logo Displayed in Food Area)<br />
<strong>Booth includes: </strong>8' X 10' booth / 6' Table / 2 Chairs / Forklift service &amp; Operator available / Electric Hook-up / Trash Bin<br />Location:<br />Charlotte Harbor Event and Conference Center<br />75 Taylor Street<br />Punta Gorda, FL 33950
PRIORITY:3
TRANSP:TRANSPARENT
BEGIN:VALARM
TRIGGER:-PT5M
ACTION:DISPLAY
DESCRIPTION:Reminder
END:VALARM
END:VEVENT
END:VCALENDAR
