BEGIN:VCALENDAR
VERSION:2.0
CALSCALE:GREGORIAN
METHOD:PUBLISH
PRODID://FWEA//516940
BEGIN:VEVENT
DTSTAMP:20260424T012924
VTIMEZONE:America/New_York
DTSTART:20260521T220000Z
DTEND:20260522T000000Z
UID:516940
SUMMARY:FWEA/DBIA/FSAWWA YP Pickleball Social Event
LOCATION:Tampa Pickleball Crew, 1701 E 2nd Ave, Tampa, FL, 33605
DESCRIPTION:FWEA/DBIA/FSAWWA YP Pickleball Social Event\n\n05/21/26 06:00 PM EST\n - 05/21/26 08:00 PM EST\Description:\n\Location:\nTampa Pickleball Crew\n1701 E 2nd Ave\nTampa, FL 33605
X-ALT-DESC;FMTTYPE=text/html:FWEA/DBIA/FSAWWA YP Pickleball Social Event<br /><br />05/21/26 06:00 PM EST - 05/21/26 08:00 PM EST<br />Description:<br /><iframe height="800px" src="https://www.fwea.org/docs/FWEA_YP_Pickleball_2026.pdf" style="border: none;" width="100%"></iframe><br />Location:<br />Tampa Pickleball Crew<br />1701 E 2nd Ave<br />Tampa, FL 33605
PRIORITY:3
TRANSP:TRANSPARENT
BEGIN:VALARM
TRIGGER:-PT5M
ACTION:DISPLAY
DESCRIPTION:Reminder
END:VALARM
END:VEVENT
END:VCALENDAR
